BEGIN:VCALENDAR
VERSION:2.0
PRODID:-//Italignum - ECPv6.8.1//NONSGML v1.0//EN
CALSCALE:GREGORIAN
METHOD:PUBLISH
X-ORIGINAL-URL:https://italignum.com
X-WR-CALDESC:Eventi per Italignum
REFRESH-INTERVAL;VALUE=DURATION:PT1H
X-Robots-Tag:noindex
X-PUBLISHED-TTL:PT1H
BEGIN:VTIMEZONE
TZID:Europe/Paris
BEGIN:DAYLIGHT
TZOFFSETFROM:+0100
TZOFFSETTO:+0200
TZNAME:CEST
DTSTART:20250330T010000
END:DAYLIGHT
BEGIN:STANDARD
TZOFFSETFROM:+0200
TZOFFSETTO:+0100
TZNAME:CET
DTSTART:20251026T010000
END:STANDARD
END:VTIMEZONE
BEGIN:VEVENT
DTSTART;VALUE=DATE:20250228
DTEND;VALUE=DATE:20250301
DTSTAMP:20260423T133618
CREATED:20250509T122211Z
LAST-MODIFIED:20250509T123033Z
UID:6699-1740700800-1740787199@italignum.com
SUMMARY:Design sostenibile e materiali per l’arredo: CAM\, Ecodesign ed LCA
DESCRIPTION:La sostenibilità ambientale è un tema sempre più sentito che sta entrando prepotentemente nella coscienza collettiva come priorità non negoziabile. \nE’ quindi inevitabile che anche le abitudini di consumo delle persone tendano in questa direzione\, segnando di fatto la necessità di un cambio di passo che né il legislatore né le aziende che operano sul mercato possono ignorare. \nNe parleremo venerdì 28 febbraio\, presso la nostra sede Italignum di Padova\, in un workshop da non mancare!
URL:https://italignum.com/evento/design-sostenibile-e-materiali-per-larredo-cam-ecodesign-ed-lca/
ATTACH;FMTTYPE=image/jpeg:https://italignum.com/wp-content/uploads/20250228_DesignSostenibileMaterialiPerArredo_SI-Copia.jpg
END:VEVENT
END:VCALENDAR