BEGIN:VCALENDAR
VERSION:2.0
PRODID:-//Italignum - ECPv6.8.1//NONSGML v1.0//EN
CALSCALE:GREGORIAN
METHOD:PUBLISH
X-WR-CALNAME:Italignum
X-ORIGINAL-URL:https://italignum.com
X-WR-CALDESC:Eventi per Italignum
REFRESH-INTERVAL;VALUE=DURATION:PT1H
X-Robots-Tag:noindex
X-PUBLISHED-TTL:PT1H
BEGIN:VTIMEZONE
TZID:Europe/Paris
BEGIN:DAYLIGHT
TZOFFSETFROM:+0100
TZOFFSETTO:+0200
TZNAME:CEST
DTSTART:20250330T010000
END:DAYLIGHT
BEGIN:STANDARD
TZOFFSETFROM:+0200
TZOFFSETTO:+0100
TZNAME:CET
DTSTART:20251026T010000
END:STANDARD
END:VTIMEZONE
BEGIN:VEVENT
DTSTART;TZID=Europe/Paris:20250516T080000
DTEND;TZID=Europe/Paris:20250517T170000
DTSTAMP:20260423T083658
CREATED:20250509T123416Z
LAST-MODIFIED:20250509T123416Z
UID:6705-1747382400-1747501200@italignum.com
SUMMARY:FINSA: presentazione della collezione Superpan Decor
DESCRIPTION:Abbiamo il piacere di invitarvi all’evento organizzato per venerdì 16 / sabato 17 MAGGIO presso la sede Italignum a Padova. \nIn questa occasione presenteremo la nuova Collezione SuperPan Decor di FINSA: \nLa nuova gamma completa di decori SuperPan Decor unisce un supporto dalle altissime prestazioni tecniche (SuperPan) con decori all’avanguardia\, tra tinte unite di tendenza e riproduzioni effetto legno e materiche\, \ndisponibili su pannello\, laminato e con bordi coordinati. \nL’incontro durerà circa 90 minuti\, seguito da un momento conviviale con rinfresco. \nNel manifesto qui potete vedere gli orari delle presentazioni.
URL:https://italignum.com/evento/finsa-presentazione-della-collezione-superpan-decor/
ATTACH;FMTTYPE=image/jpeg:https://italignum.com/wp-content/uploads/20250516_Finsa_BANNER_MAIL.jpg
END:VEVENT
END:VCALENDAR