BEGIN:VCALENDAR
VERSION:2.0
PRODID:-//Italignum - ECPv6.8.1//NONSGML v1.0//EN
CALSCALE:GREGORIAN
METHOD:PUBLISH
X-WR-CALNAME:Italignum
X-ORIGINAL-URL:https://italignum.com
X-WR-CALDESC:Eventi per Italignum
REFRESH-INTERVAL;VALUE=DURATION:PT1H
X-Robots-Tag:noindex
X-PUBLISHED-TTL:PT1H
BEGIN:VTIMEZONE
TZID:Europe/Paris
BEGIN:DAYLIGHT
TZOFFSETFROM:+0100
TZOFFSETTO:+0200
TZNAME:CEST
DTSTART:20220327T010000
END:DAYLIGHT
BEGIN:STANDARD
TZOFFSETFROM:+0200
TZOFFSETTO:+0100
TZNAME:CET
DTSTART:20221030T010000
END:STANDARD
END:VTIMEZONE
BEGIN:VEVENT
DTSTART;TZID=Europe/Paris:20220908T183000
DTEND;TZID=Europe/Paris:20220908T203000
DTSTAMP:20260424T165821
CREATED:20220801T092858Z
LAST-MODIFIED:20220801T092858Z
UID:5502-1662661800-1662669000@italignum.com
SUMMARY:Design collaborativo: progetti e opportunità condivisi per il settore legno e arredo
DESCRIPTION:GIOVEDI’ 08 SETTEMBRE ALLE ORE 18.30\, presso la sede di Italignum\, si terrà l’evento finale del progetto “Design Collaborativo”\, a cui la nostra azienda ha partecipato attivamente. \nIl progetto\, coordinato da Confartigianato Imprese Padova e finanziato dall’EBAV (ente bilaterale dell’artigianato Veneto)\, ha avuto l’obiettivo di rilevare i fabbisogni della categoria legno-arredo\, rilanciando il settore attraverso tre macro-direttrici di sviluppo: sostenibilità\, digitalizzazione e valorizzazione del Made in Italy. \nDurante la serata verranno divulgati i risultati emersi durante questo percorso e la programmazione che nel medio/lungo termine l’Associazione metterà in atto per il settore\, proponendo iniziative e opportunità utili e interessanti per le varie realtà associate. \n  \nAl termine dell’evento ci sarà un aperitivo conviviale. \nLa partecipazione è subordinata all’iscrizione gratuita. \n  \nISCRIVITI QUI
URL:https://italignum.com/evento/design-collaborativo-opportunita-per-il-settore-legno-arredo/
LOCATION:Showroom Italignum\, Via Baviera 7\, Padova\, 35127\, Italia
ATTACH;FMTTYPE=image/jpeg:https://italignum.com/wp-content/uploads/20220801_DesignCollaborativo.jpg
END:VEVENT
END:VCALENDAR